BEGIN:VCALENDAR
VERSION:2.0
PRODID:-//VEGAN VERNETZT - ECPv6.15.20//NONSGML v1.0//EN
CALSCALE:GREGORIAN
METHOD:PUBLISH
X-WR-CALNAME:VEGAN VERNETZT
X-ORIGINAL-URL:https://veganvernetzt.de
X-WR-CALDESC:Veranstaltungen für VEGAN VERNETZT
REFRESH-INTERVAL;VALUE=DURATION:PT1H
X-Robots-Tag:noindex
X-PUBLISHED-TTL:PT1H
BEGIN:VTIMEZONE
TZID:Europe/Berlin
BEGIN:DAYLIGHT
TZOFFSETFROM:+0100
TZOFFSETTO:+0200
TZNAME:CEST
DTSTART:20250330T010000
END:DAYLIGHT
BEGIN:STANDARD
TZOFFSETFROM:+0200
TZOFFSETTO:+0100
TZNAME:CET
DTSTART:20251026T010000
END:STANDARD
BEGIN:DAYLIGHT
TZOFFSETFROM:+0100
TZOFFSETTO:+0200
TZNAME:CEST
DTSTART:20260329T010000
END:DAYLIGHT
BEGIN:STANDARD
TZOFFSETFROM:+0200
TZOFFSETTO:+0100
TZNAME:CET
DTSTART:20261025T010000
END:STANDARD
BEGIN:DAYLIGHT
TZOFFSETFROM:+0100
TZOFFSETTO:+0200
TZNAME:CEST
DTSTART:20270328T010000
END:DAYLIGHT
BEGIN:STANDARD
TZOFFSETFROM:+0200
TZOFFSETTO:+0100
TZNAME:CET
DTSTART:20271031T010000
END:STANDARD
END:VTIMEZONE
BEGIN:VEVENT
DTSTART;TZID=Europe/Berlin:20260424T140000
DTEND;TZID=Europe/Berlin:20260424T190000
DTSTAMP:20260420T154217
CREATED:20260419T210306Z
LAST-MODIFIED:20260419T210306Z
UID:17231-1777039200-1777057200@veganvernetzt.de
SUMMARY:Demo und Infostand gegen den Schlachthof von TLC Landgeflügel
DESCRIPTION:Demo und Infostand gegen den Schlachthof von TLC Landgeflügel bei Massing \n📆 Freitag\, 24.04.\n🕑 Demo 14 – 16 Uhr; Infostand 17 – 19 Uhr\n📍 Die genauen Orte in bzw. bei Massing folgen noch. \nNoch ganz neu in der Schlachtung sogenannter „Althennen“ will der Schlachthof in Massing seine Kapazitäten in diesem Bereich auf 60.000 Tiere am Tag erhöhen und damit mehr als verdoppeln. Damit soll die Lücke geschlossen werden\, die der geschlossene Schlachthof Buckl hinterlassen hat. Doch das lassen wir nicht zu! Was wir brauchen\, ist eine pflanzliche Agrar- und Ernährungswende und einen Ausstieg aus der Tierindustrie\, anstatt den Ausbau von Schlachthöfen\, in denen die Tiere ganz „tierfreundlich“ mit CO2 betäubt werden 🤮 \nDer 24.04. ist außerdem für den Schlachthof bei Massing ein ganz besonderes Datum. Er lädt nämlich ein zu einem Tag der Offenen Tür\, um sich möglichst gut zu präsentieren und greenzuwashen. Doch diese Show lassen wir nicht unwiedersprochen. Erst wollen wir mit einer Demo dagegen vorgehen und anschließend beim Infostand mit der Bevölkerung Massings ins Gespräch kommen. \nFür das ganze brauchen wir aber dringend ein paar Menschen. Also komm gerne vorbei und schreib uns an\, falls du Interesse an einer Fahrgemeinschaft hast. Wenn auch der Anlass wie gewöhnlich grausam ist\, freuen wir uns auf eine kraftvolle Demo ✊
URL:https://veganvernetzt.de/event/demo-und-infostand-gegen-den-schlachthof-von-tlc-landgefluegel/
CATEGORIES:Demonstration,Infoveranstaltung
ATTACH;FMTTYPE=image/jpeg:https://veganvernetzt.de/wp-content/uploads/2026/04/demo-massing.jpg
END:VEVENT
END:VCALENDAR