BEGIN:VCALENDAR
VERSION:2.0
PRODID:-//VEGAN VERNETZT - ECPv6.15.20//NONSGML v1.0//EN
CALSCALE:GREGORIAN
METHOD:PUBLISH
X-WR-CALNAME:VEGAN VERNETZT
X-ORIGINAL-URL:https://veganvernetzt.de
X-WR-CALDESC:Veranstaltungen für VEGAN VERNETZT
REFRESH-INTERVAL;VALUE=DURATION:PT1H
X-Robots-Tag:noindex
X-PUBLISHED-TTL:PT1H
BEGIN:VTIMEZONE
TZID:Europe/Berlin
BEGIN:DAYLIGHT
TZOFFSETFROM:+0100
TZOFFSETTO:+0200
TZNAME:CEST
DTSTART:20240331T010000
END:DAYLIGHT
BEGIN:STANDARD
TZOFFSETFROM:+0200
TZOFFSETTO:+0100
TZNAME:CET
DTSTART:20241027T010000
END:STANDARD
BEGIN:DAYLIGHT
TZOFFSETFROM:+0100
TZOFFSETTO:+0200
TZNAME:CEST
DTSTART:20250330T010000
END:DAYLIGHT
BEGIN:STANDARD
TZOFFSETFROM:+0200
TZOFFSETTO:+0100
TZNAME:CET
DTSTART:20251026T010000
END:STANDARD
BEGIN:DAYLIGHT
TZOFFSETFROM:+0100
TZOFFSETTO:+0200
TZNAME:CEST
DTSTART:20260329T010000
END:DAYLIGHT
BEGIN:STANDARD
TZOFFSETFROM:+0200
TZOFFSETTO:+0100
TZNAME:CET
DTSTART:20261025T010000
END:STANDARD
END:VTIMEZONE
BEGIN:VEVENT
DTSTART;TZID=Europe/Berlin:20250111T130000
DTEND;TZID=Europe/Berlin:20250111T153000
DTSTAMP:20260420T110527
CREATED:20241225T184612Z
LAST-MODIFIED:20241225T215618Z
UID:836-1736600400-1736609400@veganvernetzt.de
SUMMARY:Veganstart: Vegan ins neue Jahr
DESCRIPTION:Am 11. Januar 2025 veranstaltet das PETA Streetteam Nürnberg vor der Lorenzkirche von 13:00 bis 15:30 Uhr eine Aktion\, um den Einstieg in eine vegane Ernährung zu fördern. Der „Veganstart“ bietet die Möglichkeit\, verschiedene vegane Produkte zu probieren und sich tiefergehend über die vegane Lebensweise zu informieren. \n\n\n\nDie Aktion soll darauf aufmerksam machen\, dass eine ausgewogene vegane Ernährung nicht nur gesundheitliche Vorteile mit sich bringt\, sondern auch Tiere schützt und die Umwelt schont. Interessierte\, die sich an der Aktion beteiligen möchten\, können entweder ein Kostüm tragen oder durch das Verteilen von Flyern\, das Halten von Plakaten und Gespräche mit Passant*innen zum Thema Veganismus beitragen. \n\n\n\nPETA weist darauf hin\, dass bei der Veranstaltung ausschließlich die vegane Lebensweise und das Leitbild der Organisation vertreten werden. Diskriminierendes Verhalten wird nicht toleriert. Tierische Begleitungen sollten zuhause gelassen werden.
URL:https://veganvernetzt.de/event/vegan-ins-neue-jahr-veganstart/
LOCATION:Lorenzkirche\, Lorenzkirche\, Nürnberg\, 90402
CATEGORIES:Infoveranstaltung
ATTACH;FMTTYPE=image/jpeg:https://veganvernetzt.de/wp-content/uploads/2024/12/peta-web.jpg
END:VEVENT
END:VCALENDAR